BEGIN:VCALENDAR
VERSION:2.0
PRODID:-//Talks.cam//talks.cam.ac.uk//
X-WR-CALNAME:Talks.cam
BEGIN:VEVENT
SUMMARY:Using Signatures to Predict Amyotrophic Lateral Sclerosis Progress
 ion - Imanol Perez (University of Oxford)
DTSTART:20181127T115000Z
DTEND:20181127T121000Z
UID:TALK114964@talks.cam.ac.uk
CONTACT:INI IT
DESCRIPTION:
LOCATION:Seminar Room 1\, Newton Institute
END:VEVENT
END:VCALENDAR
