BEGIN:VCALENDAR
VERSION:2.0
PRODID:-//Talks.cam//talks.cam.ac.uk//
X-WR-CALNAME:Talks.cam
BEGIN:VEVENT
SUMMARY:Constructing extended AKSZ topological field theories in derived s
 ymplectic geometry - Claudia Scheimbauer (Norwegian University of Science 
 and Technology)
DTSTART:20181127T140000Z
DTEND:20181127T150000Z
UID:TALK114979@talks.cam.ac.uk
CONTACT:INI IT
DESCRIPTION:Derived algebraic geometry and derived symplectic geometry in 
 the sense of Pantev-Toen-Vaqui&eacute\;-Vezzosi allows for a reinterpretat
 ion/analog of the classical AKSZ construction for certain $\\sigma$-models
 . It is given by taking mapping stacks with a fixed target building and de
 scribes ``semi-classical TFTs". Using the formalism of derived algebraic g
 eometry as a blackbox\,&nbsp\;I will sketch how this construction yields e
 xtended TFTs\, which involves harnessing many higher homotopies.&nbsp\;Thi
 s is joint work in progress with Damien Calaque and Rune Haugseng.  
LOCATION:Seminar Room 2\, Newton Institute
END:VEVENT
END:VCALENDAR
