BEGIN:VCALENDAR
VERSION:2.0
PRODID:-//Talks.cam//talks.cam.ac.uk//
X-WR-CALNAME:Talks.cam
BEGIN:VEVENT
SUMMARY:Title to be confirmed - Francesca D. Ciccarelli Professor of Cance
 r Genomics | King’s College London| The Francis Crick Institute
DTSTART:20100325T130000Z
DTEND:20100325T140000Z
UID:TALK115189@talks.cam.ac.uk
CONTACT:72001
DESCRIPTION:Abstract not available
LOCATION:CRUK CI Lecture Theatre (Room 001)
END:VEVENT
END:VCALENDAR
