BEGIN:VCALENDAR
VERSION:2.0
PRODID:-//Talks.cam//talks.cam.ac.uk//
X-WR-CALNAME:Talks.cam
BEGIN:VEVENT
SUMMARY:Higher monoidal monomorphisms - Christian Schlichtkrull (Universit
 etet i Bergen)
DTSTART:20181129T161500Z
DTEND:20181129T163000Z
UID:TALK115576@talks.cam.ac.uk
CONTACT:INI IT
DESCRIPTION:
LOCATION:Seminar Room 2\, Newton Institute
END:VEVENT
END:VCALENDAR
