BEGIN:VCALENDAR
VERSION:2.0
PRODID:-//Talks.cam//talks.cam.ac.uk//
X-WR-CALNAME:Talks.cam
BEGIN:VEVENT
SUMMARY:More about the slice filtration and slice spectral sequence - Doug
  Ravenel (University of Rochester)
DTSTART:20181130T140000Z
DTEND:20181130T150000Z
UID:TALK115771@talks.cam.ac.uk
CONTACT:INI IT
DESCRIPTION:
LOCATION:Seminar Room 2\, Newton Institute
END:VEVENT
END:VCALENDAR
