BEGIN:VCALENDAR
VERSION:2.0
PRODID:-//Talks.cam//talks.cam.ac.uk//
X-WR-CALNAME:Talks.cam
BEGIN:VEVENT
SUMMARY:Dynamics of a chemically pulsing mantle plume - Dr Rex Taylor\, Un
 iversity of Southampton
DTSTART:20181211T110000Z
DTEND:20181211T120000Z
UID:TALK115846@talks.cam.ac.uk
CONTACT:Andy Buckley
DESCRIPTION:Abstract not available
LOCATION: Harker 1\, Department of Earth Sciences\, Downing Street
END:VEVENT
END:VCALENDAR
