BEGIN:VCALENDAR
VERSION:2.0
PRODID:-//Talks.cam//talks.cam.ac.uk//
X-WR-CALNAME:Talks.cam
BEGIN:VEVENT
SUMMARY:Protein design to understand natural proteins and to create useful
  new ones - Professor Lynne Regan
DTSTART:20190219T130000Z
DTEND:20190219T140000Z
UID:TALK115885@talks.cam.ac.uk
CONTACT:Tony Jackson
DESCRIPTION:Abstract not available
LOCATION:Department of Biochemistry\, Sanger Building Jean Thomas Lecture 
 Theatre
END:VEVENT
END:VCALENDAR
