BEGIN:VCALENDAR
VERSION:2.0
PRODID:-//Talks.cam//talks.cam.ac.uk//
X-WR-CALNAME:Talks.cam
BEGIN:VEVENT
SUMMARY:Whitehead products in v_n-periodic homotopy groups - Gijs Heuts (U
 niversiteit Utrecht)
DTSTART:20181213T160000Z
DTEND:20181213T161500Z
UID:TALK116092@talks.cam.ac.uk
CONTACT:INI IT
DESCRIPTION:
LOCATION:Seminar Room 2\, Newton Institute
END:VEVENT
END:VCALENDAR
