BEGIN:VCALENDAR
VERSION:2.0
PRODID:-//Talks.cam//talks.cam.ac.uk//
X-WR-CALNAME:Talks.cam
BEGIN:VEVENT
SUMMARY:Title to be confirmed - Dr Suliann Ben Hamed\, Research Director\,
  CNRS\, Cognitive Neuroscience Center\, Région de Lyon\, France
DTSTART:20190215T163000Z
DTEND:20190215T173000Z
UID:TALK116134@talks.cam.ac.uk
CONTACT:Louise White
DESCRIPTION:Abstract not available
LOCATION:Ground Floor Lecture Theatre\, Department of Psychology
END:VEVENT
END:VCALENDAR
