BEGIN:VCALENDAR
VERSION:2.0
PRODID:-//Talks.cam//talks.cam.ac.uk//
X-WR-CALNAME:Talks.cam
BEGIN:VEVENT
SUMMARY:Overfeeding induced hypophagia:Its not leptin - Dr Yann Ravussin\,
  Columbia University New York
DTSTART:20190115T131500Z
DTEND:20190115T141500Z
UID:TALK116212@talks.cam.ac.uk
CONTACT:Karen Laurence
DESCRIPTION:Abstract not available
LOCATION:Institute of Metabolic Science (IMS)\, Level 4 ATC\, Seminar room
 s 1\,2 &amp\; 3
END:VEVENT
END:VCALENDAR
