BEGIN:VCALENDAR
VERSION:2.0
PRODID:-//Talks.cam//talks.cam.ac.uk//
X-WR-CALNAME:Talks.cam
BEGIN:VEVENT
SUMMARY:Bcl-2:  From Translocation to Therapy - Prof. Suzanne Cory:  Direc
 tor of The Walter and Eliza Hall Institute of Medical Research\, Australia
DTSTART:20080502T150000Z
DTEND:20080502T160000Z
UID:TALK11639@talks.cam.ac.uk
DESCRIPTION:Abstract not available
LOCATION:Max Perutz Lecture Theatre\, Laboratory of Molecular Biology (Add
 enbrooke's Hospital Site)
END:VEVENT
END:VCALENDAR
