BEGIN:VCALENDAR
VERSION:2.0
PRODID:-//Talks.cam//talks.cam.ac.uk//
X-WR-CALNAME:Talks.cam
BEGIN:VEVENT
SUMMARY:Understanding Implicit Bias - *
DTSTART:20190313T123000Z
DTEND:20190313T133000Z
UID:TALK116683@talks.cam.ac.uk
CONTACT:Equality &amp\; Diversity
DESCRIPTION:Implicit biases can impact on the decisions we make and how we
  interact with colleagues and students\, but what can we do to mitigate th
 em? \n\nThis session builds on the Implicit Bias online module and will lo
 ok at what practical steps can be taken to address implicit biases in the 
 workplace. \n\n*To book your place\, please visit: https://www.training.ca
 m.ac.uk/equality/event/2843259*\n\n\n\n\n
LOCATION:Millstein Room\, The University Library 
END:VEVENT
END:VCALENDAR
