BEGIN:VCALENDAR
VERSION:2.0
PRODID:-//Talks.cam//talks.cam.ac.uk//
X-WR-CALNAME:Talks.cam
BEGIN:VEVENT
SUMMARY:Title to be confirmed - Matthew Davies\, Cavendish Astrophysics
DTSTART:20080514T101500Z
DTEND:20080514T103000Z
UID:TALK11689@talks.cam.ac.uk
CONTACT:John Young
DESCRIPTION:Abstract not available
LOCATION:Ryle Seminar Room\, Rutherford Building\, Cavendish Laboratory
END:VEVENT
END:VCALENDAR
