BEGIN:VCALENDAR
VERSION:2.0
PRODID:-//Talks.cam//talks.cam.ac.uk//
X-WR-CALNAME:Talks.cam
BEGIN:VEVENT
SUMMARY:Give us the tools\, and we will finish the job - Stephen Sawcer\, 
 Dept of Clinical Neurosciences\, University of Cambridge
DTSTART:20080509T120000Z
DTEND:20080509T130000Z
UID:TALK11704@talks.cam.ac.uk
CONTACT:Denise Schofield
DESCRIPTION:Abstract not available
LOCATION:Sackler Lecture Theatre (Level 7)\, Cambridge Institute for Medic
 al Research
END:VEVENT
END:VCALENDAR
