BEGIN:VCALENDAR
VERSION:2.0
PRODID:-//Talks.cam//talks.cam.ac.uk//
X-WR-CALNAME:Talks.cam
BEGIN:VEVENT
SUMMARY:Boundary partitions in trees and dimers - Wilson\, DB (Microsoft R
 esearch)
DTSTART:20080424T090000Z
DTEND:20080424T100000Z
UID:TALK11756@talks.cam.ac.uk
CONTACT:Mustapha Amrani
DESCRIPTION:
LOCATION:Seminar Room 1\, Newton Institute
END:VEVENT
END:VCALENDAR
