BEGIN:VCALENDAR
VERSION:2.0
PRODID:-//Talks.cam//talks.cam.ac.uk//
X-WR-CALNAME:Talks.cam
BEGIN:VEVENT
SUMMARY:The continuous limit of random planar maps - Le Gall\, J-F (Paris-
 Sud)
DTSTART:20080421T103000Z
DTEND:20080421T113000Z
UID:TALK11765@talks.cam.ac.uk
CONTACT:Mustapha Amrani
DESCRIPTION:
LOCATION:Seminar Room 1\, Newton Institute
END:VEVENT
END:VCALENDAR
