BEGIN:VCALENDAR
VERSION:2.0
PRODID:-//Talks.cam//talks.cam.ac.uk//
X-WR-CALNAME:Talks.cam
BEGIN:VEVENT
SUMMARY:Continuous-time Modelling of Energy Networks - Valentin Courgeau (
 Imperial College London\; University College London)
DTSTART:20190123T123500Z
DTEND:20190123T124000Z
UID:TALK117784@talks.cam.ac.uk
CONTACT:INI IT
DESCRIPTION:
LOCATION:Seminar Room 1\, Newton Institute
END:VEVENT
END:VCALENDAR
