BEGIN:VCALENDAR
VERSION:2.0
PRODID:-//Talks.cam//talks.cam.ac.uk//
X-WR-CALNAME:Talks.cam
BEGIN:VEVENT
SUMMARY:Chemistry Of A Single Molecule In The World’s Tiniest Test Tube 
 - Prof. Andrei N. Khlobystov\, University of Nottingham\, UK
DTSTART:20190118T160000Z
DTEND:20190118T170000Z
UID:TALK118453@talks.cam.ac.uk
CONTACT:Yarjan Abdul Samad
DESCRIPTION:Abstract not available
LOCATION:Cambridge Graphene Centre\, 9 JJ Thomson Avenue\, Cambridge CB3 O
 FA\, UK
END:VEVENT
END:VCALENDAR
