BEGIN:VCALENDAR
VERSION:2.0
PRODID:-//Talks.cam//talks.cam.ac.uk//
X-WR-CALNAME:Talks.cam
BEGIN:VEVENT
SUMMARY:Sentiment\, housing price and consumption - Eddie Hui - Guest Lect
 urer
DTSTART:20190306T160000Z
DTEND:20190306T170000Z
UID:TALK118486@talks.cam.ac.uk
CONTACT:Judith Dixon
DESCRIPTION:Abstract not available
LOCATION:Mill Lane Lecture Room 4
END:VEVENT
END:VCALENDAR
