BEGIN:VCALENDAR
VERSION:2.0
PRODID:-//Talks.cam//talks.cam.ac.uk//
X-WR-CALNAME:Talks.cam
BEGIN:VEVENT
SUMMARY:The Private and Social Value of Capital Structure Commitment - Tim
 othy C. Johnson\, Professor of Finance and Karl and Louise Schewe Professo
 r\, University of Illinois\, Gies College of Business
DTSTART:20190604T110000Z
DTEND:20190604T130000Z
UID:TALK118525@talks.cam.ac.uk
CONTACT:Emily Brown
DESCRIPTION:Abstract not available
LOCATION:Fadi Boustany Lecture Theatre\, Cambridge Judge Business School
END:VEVENT
END:VCALENDAR
