BEGIN:VCALENDAR
VERSION:2.0
PRODID:-//Talks.cam//talks.cam.ac.uk//
X-WR-CALNAME:Talks.cam
BEGIN:VEVENT
SUMMARY:Andy Cooper\, Managing Director of CrossCountry  - Andy Cooper\, M
 D CrossCountry
DTSTART:20190227T180000Z
DTEND:20190227T191500Z
UID:TALK119233@talks.cam.ac.uk
CONTACT:Tom Dutnall
DESCRIPTION:Andy Cooper has led the CrossCountry train operating company s
 ince the franchise was awarded to Arriva in 2007. Joining the railway stra
 ight from university\, he has held roles across the sectors of passenger a
 nd infrastructure\, including as managing director at Anglia Railways and 
 Central Trains\, giving him an in-depth understanding of how the railway o
 perates. Come along to the talk to hear more from Andy about his experienc
 es on the railway\, as always with the exclusive opportunity to ask questi
 ons after the talk.
LOCATION: Queens' College
END:VEVENT
END:VCALENDAR
