BEGIN:VCALENDAR
VERSION:2.0
PRODID:-//Talks.cam//talks.cam.ac.uk//
X-WR-CALNAME:Talks.cam
BEGIN:VEVENT
SUMMARY:Many questions can be asked with good wing photos - Imogen Gavins
DTSTART:20190212T100000Z
DTEND:20190212T113000Z
UID:TALK119272@talks.cam.ac.uk
CONTACT:Gabriela Montejo-Kovacevich
DESCRIPTION:Abstract not available
LOCATION:First Floor Seminar Room\, Department of Zoology
END:VEVENT
END:VCALENDAR
