BEGIN:VCALENDAR
VERSION:2.0
PRODID:-//Talks.cam//talks.cam.ac.uk//
X-WR-CALNAME:Talks.cam
BEGIN:VEVENT
SUMMARY:Co-option of the sex determination cascade for caste differentiati
 on in social insects - Anna Orteu
DTSTART:20190212T100000Z
DTEND:20190212T113000Z
UID:TALK119353@talks.cam.ac.uk
CONTACT:Gabriela Montejo-Kovacevich
DESCRIPTION:Abstract not available
LOCATION:First Floor Seminar Room\, Department of Zoology
END:VEVENT
END:VCALENDAR
