BEGIN:VCALENDAR
VERSION:2.0
PRODID:-//Talks.cam//talks.cam.ac.uk//
X-WR-CALNAME:Talks.cam
BEGIN:VEVENT
SUMMARY:Industrial Strength Total Failure - Dr Piers Bursill-Hall
DTSTART:20190223T090000Z
DTEND:20190223T094500Z
UID:TALK119392@talks.cam.ac.uk
CONTACT:73969
DESCRIPTION:What was the state of mathematics - and particularly the found
 ations of mathematics - when Russell came up to Cambridge\, and what would
  have driven him to the project of the Principia Mathematica ... one of th
 e most extraordinary and important failures of 20th century mathematics.
LOCATION:Winstanley Lecture Theatre\, Trinity College
END:VEVENT
END:VCALENDAR
