BEGIN:VCALENDAR
VERSION:2.0
PRODID:-//Talks.cam//talks.cam.ac.uk//
X-WR-CALNAME:Talks.cam
BEGIN:VEVENT
SUMMARY:Turbulence in Forced Stratified Exchange Flows - Kat Smith\, DAMTP
DTSTART:20190204T130000Z
DTEND:20190204T140000Z
UID:TALK119431@talks.cam.ac.uk
CONTACT:Prof. Jerome Neufeld
DESCRIPTION:Abstract not available
LOCATION:MR5\, Centre for Mathematical Sciences
END:VEVENT
END:VCALENDAR
