BEGIN:VCALENDAR
VERSION:2.0
PRODID:-//Talks.cam//talks.cam.ac.uk//
X-WR-CALNAME:Talks.cam
BEGIN:VEVENT
SUMMARY:(COW) Tree Compactifications of the Moduli Space of Genus Zero Cur
 ves - Diane Maclagan\, Warwick
DTSTART:20190207T153000Z
DTEND:20190207T163000Z
UID:TALK119569@talks.cam.ac.uk
CONTACT:Mark Gross
DESCRIPTION:    The moduli space \\overline{M}_{0\,n} of stable genus zero
  curves with n marked points can be constructed as the closure of M_{0\,n}
  inside a toric variety. The fan of the toric variety is moduli space of p
 hylogenetic trees. I will discuss joint work with Dustin Cartwright to con
 struct other compactifications of M_{0\,n} by varying the toric variety us
 ing variants of phylogenetic trees. These compactifications include many o
 f the standard alternative compactifications of M_{0\,n}. \n
LOCATION:CMS MR9
END:VEVENT
END:VCALENDAR
