BEGIN:VCALENDAR
VERSION:2.0
PRODID:-//Talks.cam//talks.cam.ac.uk//
X-WR-CALNAME:Talks.cam
BEGIN:VEVENT
SUMMARY:CMP Seminar on 4th February 2019 - Laura Acqualagna and Nehal Pate
 l\, GSK\; Geoffroy Dubourg-Felonneau\, Cambridge Cancer Genomics\; Austen 
 Lamacraft\, Cavendish Lab
DTSTART:20190204T130000Z
DTEND:20190204T141500Z
UID:TALK119578@talks.cam.ac.uk
CONTACT:Arti Sheth Thorne
DESCRIPTION:The Cambridge Mathematics Placements (CMP) lunchtime seminar s
 eries provides information on research projects available for summer 2019 
 outside the CMS\n\nThe following projects will be presented on 4th Februar
 y 2019:\n\nExploring Deep Learning models for segmentation of MRI scans of
  lungs at different disease stages\, Laura Acqualagna\, GSK\n\nStudy of th
 e effect of noise and sparsity on residual CNNs\, Geoffroy Dubourg-Felonne
 au\, Cambridge Cancer Genomics\n\nLearning wavelet representations\, Auste
 n Lamacraft\,Cavendish Lab / Department of Physics\n\nDeveloping optimisat
 ion approaches to be used with simulation of bioprocess chromatography\, N
 ehal Patel\, GSK\n\nFor more information please see: http://www.maths.cam.
 ac.uk/summer-research-mathematics
LOCATION:CMS MR3
END:VEVENT
END:VCALENDAR
