BEGIN:VCALENDAR
VERSION:2.0
PRODID:-//Talks.cam//talks.cam.ac.uk//
X-WR-CALNAME:Talks.cam
BEGIN:VEVENT
SUMMARY: Title: Bleeding in a multi visceral transplant - a surgical probl
 em? - Presenter: Mr Andrew Butler\, Dr Lisa Sharkey and Dr Will Thomas
DTSTART:20190220T133000Z
DTEND:20190220T140000Z
UID:TALK119770@talks.cam.ac.uk
CONTACT:Vicky Clarke
DESCRIPTION:Specialist Lead: Dr Menna Clatworthy\n\nLead Consultant: Dr Wi
 lliam Thomas\n\nPresenter: Mr Andrew Butler\, Dr Lisa Sharkey and Dr Will 
 Thomas\n\nTitle: Bleeding in a multi visceral transplant - a surgical prob
 lem?\n\nSpecialty: Transplant\n\n
LOCATION:William Harvey Lecture Theatre
END:VEVENT
END:VCALENDAR
