BEGIN:VCALENDAR
VERSION:2.0
PRODID:-//Talks.cam//talks.cam.ac.uk//
X-WR-CALNAME:Talks.cam
BEGIN:VEVENT
SUMMARY:dummy - Speaker to be confirmed
DTSTART:20190204T141500Z
DTEND:20190204T151500Z
UID:TALK119935@talks.cam.ac.uk
CONTACT:Johannes Bausch
DESCRIPTION:Abstract not available
LOCATION:MR4\, Centre for Mathematical Sciences\, Wilberforce Road\, Cambr
 idge
END:VEVENT
END:VCALENDAR
