BEGIN:VCALENDAR
VERSION:2.0
PRODID:-//Talks.cam//talks.cam.ac.uk//
X-WR-CALNAME:Talks.cam
BEGIN:VEVENT
SUMMARY:Embedding and continuity envelopes of Besov-type spaces - Wen Yuan
  (Beijing Normal University)
DTSTART:20190219T110000Z
DTEND:20190219T113500Z
UID:TALK120016@talks.cam.ac.uk
CONTACT:INI IT
DESCRIPTION:In this talk\, we discuss about the sharp embedding properties
  between Besov-type spaces and Triebel-Lizorkin-type and present some rela
 ted necessary and sufficient conditions for these embedding. The correspon
 ding continuity envelopes  are also worked out.
LOCATION:Seminar Room 1\, Newton Institute
END:VEVENT
END:VCALENDAR
