BEGIN:VCALENDAR
VERSION:2.0
PRODID:-//Talks.cam//talks.cam.ac.uk//
X-WR-CALNAME:Talks.cam
BEGIN:VEVENT
SUMMARY:“Drug Development in Obstructive Lung Disease: why it is hard an
 d how we can make progress&quot\; - Stephen Rennard\, University of Nebras
 ka Medical Centre / AstraZeneca
DTSTART:20190315T130000Z
DTEND:20190315T140000Z
UID:TALK120070@talks.cam.ac.uk
CONTACT:Tammy Dougan
DESCRIPTION:Abstract not available
LOCATION:Patrick Sissons seminar room (Purple seminar room)\, Dept Medicin
 e\, Level 5\, Addenbrookes hospital
END:VEVENT
END:VCALENDAR
