BEGIN:VCALENDAR
VERSION:2.0
PRODID:-//Talks.cam//talks.cam.ac.uk//
X-WR-CALNAME:Talks.cam
BEGIN:VEVENT
SUMMARY:Symplectic instanton homology - Ciprian Manolescu (Columbia)
DTSTART:20080305T150000Z
DTEND:20080305T160000Z
UID:TALK12014@talks.cam.ac.uk
CONTACT:Burt Totaro
DESCRIPTION:Abstract not available
LOCATION:MR13\, CMS
END:VEVENT
END:VCALENDAR
