BEGIN:VCALENDAR
VERSION:2.0
PRODID:-//Talks.cam//talks.cam.ac.uk//
X-WR-CALNAME:Talks.cam
BEGIN:VEVENT
SUMMARY:CMP Seminar on 20th February 2019 - last seminar in this series! -
  Richard Boyle\, MM Flowers\; Finnian Firth\, GSK\; Nicola de Maio and Nic
 k Goldman\, EMBL-EBI\; Cyrus Mostajeran\, Engineering\; Jake Rigby\, BMT\;
  Vasily Suvorov\, Silvaco Europe
DTSTART:20190220T130000Z
DTEND:20190220T141500Z
UID:TALK120430@talks.cam.ac.uk
CONTACT:Arti Sheth Thorne
DESCRIPTION:The Cambridge Mathematics Placements (CMP) lunchtime seminar s
 eries provides information on research projects available for summer 2019 
 outside the CMS.\n\nThe last seminar in the series is on 20th February 201
 9. The following projects will be presented:\n\nUnderstanding cut rose per
 formance through long term quality monitoring and analysis\, Richard Boyle
 \, MM Flowers\n\nGraph-Based Machine Learning for Biological Network Data\
 , Finnian Firth\, GSK\n\nModeling DNA Evolution\, Nicola de Maio and Nick 
 Goldman\, EMBL-European Bioinformatics Institute\n\nFinsler optimisation o
 n matrix manifolds\, Cyrus Mostajeran and Rodolphe Sepulchre\, Engineering
 \n\nForce to Radiated Noise Transfer Functions\, Jake Rigby\, BMT \n\nSupp
 ort solution optimisation using Monte Carlo Simulation\, Jake Rigby\, BMT\
 n\nNumerical Modelling of Oxidation Process in Semiconductor Devices\, Vas
 ily Suvorov\, Silvaco Europe\n\nFor more information please see: http://ww
 w.maths.cam.ac.uk/summer-research-mathematics
LOCATION:CMS MR3
END:VEVENT
END:VCALENDAR
