BEGIN:VCALENDAR
VERSION:2.0
PRODID:-//Talks.cam//talks.cam.ac.uk//
X-WR-CALNAME:Talks.cam
BEGIN:VEVENT
SUMMARY:Mechanocaloric Materials for Environmentally Friendly Refrigeratio
 n - Xavier Moya (University of Cambridge)
DTSTART:20190227T142000Z
DTEND:20190227T145000Z
UID:TALK120463@talks.cam.ac.uk
CONTACT:INI IT
DESCRIPTION:
LOCATION:Seminar Room 1\, Newton Institute
END:VEVENT
END:VCALENDAR
