BEGIN:VCALENDAR
VERSION:2.0
PRODID:-//Talks.cam//talks.cam.ac.uk//
X-WR-CALNAME:Talks.cam
BEGIN:VEVENT
SUMMARY:Volcano watching: weapons of ash eruption.   - Prof. Tamsin Mather
 \, University of Oxford
DTSTART:20190610T183000Z
DTEND:20190610T200000Z
UID:TALK120622@talks.cam.ac.uk
CONTACT:John Cook
DESCRIPTION:*The latest developments in global volcano monitoring.*\n\nVol
 canoes can be deadly natural hazards but they have also shaped the world a
 round us today. While active volcanoes can seem distant from the UK\, the 
 travel chaos caused by the 2010 eruption in Iceland highlighted their disr
 uptive power even in our relatively tectonically benign corner of the plan
 et. Volcanoes are complex and varied. Volcanologists must use all the tool
 s at their disposal to understand them and forecast their activity and imp
 acts. This talk will explore some of these tools including recent developm
 ents pushing our satellite capabilities towards global volcano monitoring.
 \n\n"Add to calendar":https://www.addevent.com/event/?Ky2747902\n\n"Find o
 ut more about this event":https://www.csar.org.uk/lectures/2018-2019/tbc-1
 0-jun-19/\n\n"Find out more about CSAR membership":http://www.csar.org.uk/
 membership/
LOCATION:The Wolfson Hall\, Churchill College\, Storey's Way\, Cambridge\,
  CB3 0DS
END:VEVENT
END:VCALENDAR
