BEGIN:VCALENDAR
VERSION:2.0
PRODID:-//Talks.cam//talks.cam.ac.uk//
X-WR-CALNAME:Talks.cam
BEGIN:VEVENT
SUMMARY:Twistor fishnets - Tim Adamo (Imperial College London)
DTSTART:20190521T150000Z
DTEND:20190521T160000Z
UID:TALK122023@talks.cam.ac.uk
CONTACT:Professor Maciej Dunajski
DESCRIPTION:Abstract not available
LOCATION:MR11
END:VEVENT
END:VCALENDAR
