BEGIN:VCALENDAR
VERSION:2.0
PRODID:-//Talks.cam//talks.cam.ac.uk//
X-WR-CALNAME:Talks.cam
BEGIN:VEVENT
SUMMARY:Simplicity &amp\; Complexity: Science\, God and Dawkins - Prof. Ri
 chard Swinburne and Prof. Colin Howson
DTSTART:20080605T163000Z
DTEND:20080605T173000Z
UID:TALK12215@talks.cam.ac.uk
DESCRIPTION:Abstract not available
LOCATION:Queen's Lecture Theatre\, Emmanuel College
END:VEVENT
END:VCALENDAR
