BEGIN:VCALENDAR
VERSION:2.0
PRODID:-//Talks.cam//talks.cam.ac.uk//
X-WR-CALNAME:Talks.cam
BEGIN:VEVENT
SUMMARY:On main conjectures in non-commutative Iwasawa theory and related 
 conjectures - David Burns (Kings College London)
DTSTART:20080520T133000Z
DTEND:20080520T143000Z
UID:TALK12252@talks.cam.ac.uk
CONTACT:Tim Dokchitser
DESCRIPTION:Abstract not available
LOCATION:MR13
END:VEVENT
END:VCALENDAR
