BEGIN:VCALENDAR
VERSION:2.0
PRODID:-//Talks.cam//talks.cam.ac.uk//
X-WR-CALNAME:Talks.cam
BEGIN:VEVENT
SUMMARY:Analytics and Forecasting for Renewable Energy Generation - Pierre
  Pinson (Danmarks Tekniske Universitet)
DTSTART:20190501T095500Z
DTEND:20190501T103000Z
UID:TALK123439@talks.cam.ac.uk
CONTACT:INI IT
DESCRIPTION:
LOCATION:Seminar Room 1\, Newton Institute
END:VEVENT
END:VCALENDAR
