BEGIN:VCALENDAR
VERSION:2.0
PRODID:-//Talks.cam//talks.cam.ac.uk//
X-WR-CALNAME:Talks.cam
BEGIN:VEVENT
SUMMARY:Approximation of functional spatial regression models using bivari
 ate splines - Guillas\, S (University College London)
DTSTART:20080605T100000Z
DTEND:20080605T110000Z
UID:TALK12387@talks.cam.ac.uk
CONTACT:Mustapha Amrani
DESCRIPTION:
LOCATION:Seminar Room 1\, Newton Institute
END:VEVENT
END:VCALENDAR
