BEGIN:VCALENDAR
VERSION:2.0
PRODID:-//Talks.cam//talks.cam.ac.uk//
X-WR-CALNAME:Talks.cam
BEGIN:VEVENT
SUMMARY:Packing Liquid Crystal Domains - Randall Kamien (University of Pen
 nsylvania )
DTSTART:20190513T084000Z
DTEND:20190513T092000Z
UID:TALK124246@talks.cam.ac.uk
CONTACT:INI IT
DESCRIPTION:Focal conic domains are complex\, geometric configurations fou
 nd in cholesteric and smectic liquid crystals: they are not topologically 
 protected but are very low energy states. How do they pack on finite geome
 tries? Come and listen!
LOCATION:Seminar Room 1\, Newton Institute
END:VEVENT
END:VCALENDAR
