BEGIN:VCALENDAR
VERSION:2.0
PRODID:-//Talks.cam//talks.cam.ac.uk//
X-WR-CALNAME:Talks.cam
BEGIN:VEVENT
SUMMARY:Design Innovations and Challenges for Photonics and Electronics Ma
 terials - Tim Wilkinson (University of Cambridge)
DTSTART:20190520T092000Z
DTEND:20190520T095500Z
UID:TALK124729@talks.cam.ac.uk
CONTACT:INI IT
DESCRIPTION:
LOCATION:Seminar Room 1\, Newton Institute
END:VEVENT
END:VCALENDAR
