BEGIN:VCALENDAR
VERSION:2.0
PRODID:-//Talks.cam//talks.cam.ac.uk//
X-WR-CALNAME:Talks.cam
BEGIN:VEVENT
SUMMARY:Lecture 1: Introduction. How can geometry help us learn from data?
  Optimization and Bayesian approaches. - Nicolas Garcia Trillos
DTSTART:20190603T103000Z
DTEND:20190603T113000Z
UID:TALK124849@talks.cam.ac.uk
CONTACT:J.W.Stevens
DESCRIPTION:Abstract not available
LOCATION:Centre for Mathematical Sciences\, MR14
END:VEVENT
END:VCALENDAR
