BEGIN:VCALENDAR
VERSION:2.0
PRODID:-//Talks.cam//talks.cam.ac.uk//
X-WR-CALNAME:Talks.cam
BEGIN:VEVENT
SUMMARY:Markov chain Monte Carlo algorithms for Gaussian processes - Titsi
 as\, MK (Manchester)
DTSTART:20080620T084000Z
DTEND:20080620T092000Z
UID:TALK12486@talks.cam.ac.uk
CONTACT:Mustapha Amrani
DESCRIPTION:
LOCATION:Seminar Room 1\, Newton Institute
END:VEVENT
END:VCALENDAR
