BEGIN:VCALENDAR
VERSION:2.0
PRODID:-//Talks.cam//talks.cam.ac.uk//
X-WR-CALNAME:Talks.cam
BEGIN:VEVENT
SUMMARY:Basis properties of the  Haar system  in various function spaces -
  Andreas Seeger (University of Wisconsin-Madison)
DTSTART:20190619T080000Z
DTEND:20190619T085000Z
UID:TALK126199@talks.cam.ac.uk
CONTACT:INI IT
DESCRIPTION:We present recent results on the Haar system  in Besov and Tri
 ebel-Lizorkin spaces\, with an emphasis on  endpoint results.<br>Joint wor
 k with Gustavo Garrig&oacute\;s and Tino Ullrich.
LOCATION:Seminar Room 1\, Newton Institute
END:VEVENT
END:VCALENDAR
