BEGIN:VCALENDAR
VERSION:2.0
PRODID:-//Talks.cam//talks.cam.ac.uk//
X-WR-CALNAME:Talks.cam
BEGIN:VEVENT
SUMMARY:Integral norm discretization and related problems - Feng Dai (Univ
 ersity of Alberta)
DTSTART:20190621T101000Z
DTEND:20190621T110000Z
UID:TALK126316@talks.cam.ac.uk
CONTACT:INI IT
DESCRIPTION:In this talk\, we will discuss  the problem of replacing an in
 tegral norm with respect to a given probability measure by the correspondi
 ng integral <br> norm with respect to a discrete measure.  We study the pr
 oblem  for elements of finite dimensional spaces in a general setting\, pa
 ying  a<br> special attention to the case of the multivariate trigonometri
 c polynomials with frequencies from a finite set with fixed cardinality. <
 br>   Both new results and a survey of known results will be presented.<br
 > <br> This is a joint work with  A. Prymak\, V.N. Temlyakov  and   S. Tik
 honov.
LOCATION:Seminar Room 1\, Newton Institute
END:VEVENT
END:VCALENDAR
