BEGIN:VCALENDAR
VERSION:2.0
PRODID:-//Talks.cam//talks.cam.ac.uk//
X-WR-CALNAME:Talks.cam
BEGIN:VEVENT
SUMMARY:Stakeholder Survey - Shaping Future Research Directions - Jane Lee
 ks (Newton Gateway to Mathematics)\; Ciara Dangerfield ()
DTSTART:20190703T100000Z
DTEND:20190703T101000Z
UID:TALK126634@talks.cam.ac.uk
CONTACT:INI IT
DESCRIPTION:
LOCATION:Seminar Room 1\, Newton Institute
END:VEVENT
END:VCALENDAR
