BEGIN:VCALENDAR
VERSION:2.0
PRODID:-//Talks.cam//talks.cam.ac.uk//
X-WR-CALNAME:Talks.cam
BEGIN:VEVENT
SUMMARY:Starting a research project at the Clinical School - Ethics and ot
 her considerations - Carolyn Read - Research Governance Officer\, School o
 f Clinical Medicine\, University of Cambridge
DTSTART:20190725T110000Z
DTEND:20190725T120000Z
UID:TALK126943@talks.cam.ac.uk
CONTACT:Dr Romina Vuono
DESCRIPTION:Abstract not available
LOCATION:James Fawcett Seminar Room\, van Geest Building
END:VEVENT
END:VCALENDAR
