BEGIN:VCALENDAR
VERSION:2.0
PRODID:-//Talks.cam//talks.cam.ac.uk//
X-WR-CALNAME:Talks.cam
BEGIN:VEVENT
SUMMARY:Lattice investigation of charmed and bottom hadrons - Padmanath Ma
 danagopalan (Regensburg)
DTSTART:20191114T160000Z
DTEND:20191114T170000Z
UID:TALK126988@talks.cam.ac.uk
CONTACT:Mathieu Pellen
DESCRIPTION:I will present the recent results for the charmed and bottom h
 adron spectra from\nour lattice QCD calculations. In light of the recent e
 xperimental discoveries of excited $\\Omega_c$\nbaryons and the first doub
 ly charmed baryon ($\\Xi_{cc}$)\, I will highlight the results relevant\nt
 o the same. Chiral and continuum extrapolations\, other lattice systematic
 s\, and comparison\nwith the existing numbers from experiments\, where app
 licable\, will be discussed.\nPredictions for the masses of several other 
 states\, which are yet to be discovered\, will also\nbe presented.\n\nThe 
 slides of the presentation can be found "here":http://www.hep.phy.cam.ac.u
 k/~conference/Padmanath_14_11_2019.pdf
LOCATION:MR19 (Potter Room\, Pavilion B)\, CMS
END:VEVENT
END:VCALENDAR
