BEGIN:VCALENDAR
VERSION:2.0
PRODID:-//Talks.cam//talks.cam.ac.uk//
X-WR-CALNAME:Talks.cam
BEGIN:VEVENT
SUMMARY:Accelerating Iterative Methods Using FPGAs - Antonio Roldao (PhD@I
 C)
DTSTART:20081007T130000Z
DTEND:20081007T140000Z
UID:TALK12757@talks.cam.ac.uk
CONTACT:Dr George A Constantinides
DESCRIPTION:This talk will discuss the quantification of how much differen
 t mantissa/exponent bit-widths impact FPGA resource utilization.\n\nWe wil
 l look at how these data\, in conjunction with acceptable error bounds in 
 iterative methods\, can be used to accelerate the solution of linear syste
 ms.\n
LOCATION:Mahanakorn Laboratory\, EEE
END:VEVENT
END:VCALENDAR
